BEGIN:VCALENDAR
VERSION:2.0
PRODID:-//jEvents 2.0 for Joomla//EN
CALSCALE:GREGORIAN
METHOD:PUBLISH
BEGIN:VTIMEZONE
TZID:Europe/Prague
END:VTIMEZONE
BEGIN:VEVENT
UID:5da6d31a1cbec5752200de0acbde0b5e
CATEGORIES:Významné dny
CREATED:20241118T143149
SUMMARY:Svátek práce
URL;VALUE=URI:https://urada.vbox.cz/kalendar/detailudalosti/2279/-/svatek-prace.html?tmpl
 =component
DESCRIPTION:<p>Svátek práce nebo 1. máj je mezinárodní svátek pracujících, který se od 
 roku 1890 slaví 1. května.</p>
DTSTAMP:20260420T003510Z
DTSTART;TZID=Europe/Prague;VALUE=DATE:20350501
DTEND;TZID=Europe/Prague;VALUE=DATE:20350502
SEQUENCE:0
TRANSP:OPAQUE
END:VEVENT
END:VCALENDAR