BEGIN:VCALENDAR
VERSION:2.0
PRODID:-//jEvents 2.0 for Joomla//EN
CALSCALE:GREGORIAN
METHOD:PUBLISH
BEGIN:VTIMEZONE
TZID:Europe/Prague
END:VTIMEZONE
BEGIN:VEVENT
UID:9256196c9aa66f80aa88fd0d7cb838ca
CATEGORIES:Církevní svátky
CREATED:20241114T142223
SUMMARY:Patriarchy Karla Farského
URL;VALUE=URI:https://urada.vbox.cz/kalendar/detailudalosti/2218/-/patriarchy-karla-farsk
 eho.html?tmpl=component
DESCRIPTION:Připomínka úmrtí patriarchy Karla Farského (12. června 1927 v Praze).\n
X-ALT-DESC;FMTTYPE=text/html:<p style="text-align: justify;">Připomínka úmrtí patriarchy Karla Farského 
 (12. června 1927 v Praze).</p>
DTSTAMP:20260420T075252Z
DTSTART;TZID=Europe/Prague;VALUE=DATE:20350612
DTEND;TZID=Europe/Prague;VALUE=DATE:20350613
SEQUENCE:0
TRANSP:OPAQUE
END:VEVENT
END:VCALENDAR