BEGIN:VCALENDAR
VERSION:2.0
PRODID:-//jEvents 2.0 for Joomla//EN
CALSCALE:GREGORIAN
METHOD:PUBLISH
BEGIN:VTIMEZONE
TZID:Europe/Prague
BEGIN:STANDARD
DTSTART:20221102T000000
RDATE:20230326T030000
TZOFFSETFROM:+0200
TZOFFSETTO:+0100
TZNAME:Europe/Prague CET
END:STANDARD
BEGIN:STANDARD
DTSTART:20231029T020000
RDATE:20240331T030000
TZOFFSETFROM:+0200
TZOFFSETTO:+0100
TZNAME:Europe/Prague CET
END:STANDARD
BEGIN:STANDARD
DTSTART:20241027T020000
RDATE:20250330T030000
TZOFFSETFROM:+0200
TZOFFSETTO:+0100
TZNAME:Europe/Prague CET
END:STANDARD
BEGIN:STANDARD
DTSTART:20251026T020000
RDATE:20260329T030000
TZOFFSETFROM:+0200
TZOFFSETTO:+0100
TZNAME:Europe/Prague CET
END:STANDARD
BEGIN:STANDARD
DTSTART:20261025T020000
RDATE:20270328T030000
TZOFFSETFROM:+0200
TZOFFSETTO:+0100
TZNAME:Europe/Prague CET
END:STANDARD
BEGIN:STANDARD
DTSTART:20271031T020000
RDATE:20280326T030000
TZOFFSETFROM:+0200
TZOFFSETTO:+0100
TZNAME:Europe/Prague CET
END:STANDARD
BEGIN:STANDARD
DTSTART:20281029T020000
RDATE:20290325T030000
TZOFFSETFROM:+0200
TZOFFSETTO:+0100
TZNAME:Europe/Prague CET
END:STANDARD
BEGIN:STANDARD
DTSTART:20291028T020000
RDATE:20300331T030000
TZOFFSETFROM:+0200
TZOFFSETTO:+0100
TZNAME:Europe/Prague CET
END:STANDARD
BEGIN:STANDARD
DTSTART:20301027T020000
RDATE:20310330T030000
TZOFFSETFROM:+0200
TZOFFSETTO:+0100
TZNAME:Europe/Prague CET
END:STANDARD
BEGIN:STANDARD
DTSTART:20311026T020000
RDATE:20320328T030000
TZOFFSETFROM:+0200
TZOFFSETTO:+0100
TZNAME:Europe/Prague CET
END:STANDARD
BEGIN:STANDARD
DTSTART:20321031T020000
RDATE:20330327T030000
TZOFFSETFROM:+0200
TZOFFSETTO:+0100
TZNAME:Europe/Prague CET
END:STANDARD
BEGIN:STANDARD
DTSTART:20331030T020000
RDATE:20340326T030000
TZOFFSETFROM:+0200
TZOFFSETTO:+0100
TZNAME:Europe/Prague CET
END:STANDARD
BEGIN:DAYLIGHT
DTSTART:20230326T030000
RDATE:20231029T020000
TZOFFSETFROM:+0100
TZOFFSETTO:+0200
TZNAME:Europe/Prague CEST
END:DAYLIGHT
BEGIN:DAYLIGHT
DTSTART:20240331T030000
RDATE:20241027T020000
TZOFFSETFROM:+0100
TZOFFSETTO:+0200
TZNAME:Europe/Prague CEST
END:DAYLIGHT
BEGIN:DAYLIGHT
DTSTART:20250330T030000
RDATE:20251026T020000
TZOFFSETFROM:+0100
TZOFFSETTO:+0200
TZNAME:Europe/Prague CEST
END:DAYLIGHT
BEGIN:DAYLIGHT
DTSTART:20260329T030000
RDATE:20261025T020000
TZOFFSETFROM:+0100
TZOFFSETTO:+0200
TZNAME:Europe/Prague CEST
END:DAYLIGHT
BEGIN:DAYLIGHT
DTSTART:20270328T030000
RDATE:20271031T020000
TZOFFSETFROM:+0100
TZOFFSETTO:+0200
TZNAME:Europe/Prague CEST
END:DAYLIGHT
BEGIN:DAYLIGHT
DTSTART:20280326T030000
RDATE:20281029T020000
TZOFFSETFROM:+0100
TZOFFSETTO:+0200
TZNAME:Europe/Prague CEST
END:DAYLIGHT
BEGIN:DAYLIGHT
DTSTART:20290325T030000
RDATE:20291028T020000
TZOFFSETFROM:+0100
TZOFFSETTO:+0200
TZNAME:Europe/Prague CEST
END:DAYLIGHT
BEGIN:DAYLIGHT
DTSTART:20300331T030000
RDATE:20301027T020000
TZOFFSETFROM:+0100
TZOFFSETTO:+0200
TZNAME:Europe/Prague CEST
END:DAYLIGHT
BEGIN:DAYLIGHT
DTSTART:20310330T030000
RDATE:20311026T020000
TZOFFSETFROM:+0100
TZOFFSETTO:+0200
TZNAME:Europe/Prague CEST
END:DAYLIGHT
BEGIN:DAYLIGHT
DTSTART:20320328T030000
RDATE:20321031T020000
TZOFFSETFROM:+0100
TZOFFSETTO:+0200
TZNAME:Europe/Prague CEST
END:DAYLIGHT
BEGIN:DAYLIGHT
DTSTART:20330327T030000
RDATE:20331030T020000
TZOFFSETFROM:+0100
TZOFFSETTO:+0200
TZNAME:Europe/Prague CEST
END:DAYLIGHT
END:VTIMEZONE
BEGIN:VEVENT
UID:fceb473eeab3c2a7a3997607e2eaba14
CATEGORIES:Pozvánky
CREATED:20231017T113849
SUMMARY:Meditační seminář: Jasná, klidná a celistvá mysl (Broumov)
LOCATION:Broumov
URL;VALUE=URI:https://urada.vbox.cz/kalendar/detailudalosti/644/-/meditacni-seminar-jasna
 -klidna-a-celistva-mysl-broumov.html?tmpl=component
DESCRIPTION:"Čas v tichu kláštera je skvělou příležitostí, jak se v životě zastavit a m
 ít čas jen pro sebe. Načerpat síly vám pomůže nejen unikátní a klidné prost
 ředí, ale zejména společné meditace. Během víkendu zazní mnoho praktických 
 informací o meditaci a její praxi, benefitech a psychologických aspektech m
 editace. Prostor bude i na individuální rozhovory."\nProgram bude vhodný ja
 k k prohloubení meditační praxe, tak i k seznámení s ní. Ubytování bude v r
 enovovaných mnišských celách.\nSeminář probíhá v národní kulturní památce K
 lášter Broumov.\nCENA SEMINÁŘE: 4 780 Kč včetně DPH pro samostatné ubytován
 í. Pro dvě osoby na dvoulůžkovém pokoji je cena 4 080 Kč včetně DPH.\nCena 
 je včetně prohlídky broumovského kláštera a výletu do Broumovských stěn.\nV
 eškeré dotazy pište na Tato e-mailová adresa je chráněna před spamboty. Pro
  její zobrazení musíte mít povolen Javascript.
				document.getElementById(
 'cloak95045b812ae73db404fd180ee71813ec').innerHTML = '';
				var prefix = '
 &#109;a' + 'i&#108;' + '&#116;o';
				var path = 'hr' + 'ef' + '=';
				var
  addy95045b812ae73db404fd180ee71813ec = 'm&#97;' + '&#64;';
				addy95045b8
 12ae73db404fd180ee71813ec = addy95045b812ae73db404fd180ee71813ec + 'kl&#97;
 st&#101;rbr&#111;&#117;m&#111;v' + '&#46;' + 'cz';
				var addy_text95045b8
 12ae73db404fd180ee71813ec = 'm&#97;' + '&#64;' + 'kl&#97;st&#101;rbr&#111;&
 #117;m&#111;v' + '&#46;' + 'cz';document.getElementById('cloak95045b812ae73
 db404fd180ee71813ec').innerHTML += '<a ' + path + '\'' + prefix + ':' + add
 y95045b812ae73db404fd180ee71813ec + '\'>'+addy_text95045b812ae73db404fd180e
 e71813ec+'';
		\n
X-ALT-DESC;FMTTYPE=text/html:<p style="text-align: justify;">"Čas v tichu kláštera je skvělou příležitos
 tí, jak se v životě zastavit a mít čas jen pro sebe. Načerpat síly vám pomů
 že nejen unikátní a klidné prostředí, ale zejména společné meditace. Během 
 víkendu zazní mnoho praktických informací o meditaci a její praxi, benefite
 ch a psychologických aspektech meditace. Prostor bude i na individuální roz
 hovory."</p><p style="text-align: justify;">Program bude vhodný jak k prohl
 oubení meditační praxe, tak i k seznámení s ní. Ubytování bude v renovovaný
 ch mnišských celách.</p><p style="text-align: justify;">Seminář probíhá v n
 árodní kulturní památce Klášter Broumov.</p><p style="text-align: justify;"
 >CENA SEMINÁŘE: 4 780 Kč včetně DPH pro samostatné ubytování. Pro dvě osoby
  na dvoulůžkovém pokoji je cena 4 080 Kč včetně DPH.</p><p style="text-alig
 n: justify;">Cena je včetně prohlídky broumovského kláštera a výletu do Bro
 umovských stěn.</p><p style="text-align: justify;">Veškeré dotazy pište na 
 <span id="cloak95045b812ae73db404fd180ee71813ec">Tato e-mailová adresa je c
 hráněna před spamboty. Pro její zobrazení musíte mít povolen Javascript.</s
 pan><script type='text/javascript'>
				document.getElementById('cloak95045
 b812ae73db404fd180ee71813ec').innerHTML = '';
				var prefix = '&#109;a' + 
 'i&#108;' + '&#116;o';
				var path = 'hr' + 'ef' + '=';
				var addy95045b
 812ae73db404fd180ee71813ec = 'm&#97;' + '&#64;';
				addy95045b812ae73db404
 fd180ee71813ec = addy95045b812ae73db404fd180ee71813ec + 'kl&#97;st&#101;rbr
 &#111;&#117;m&#111;v' + '&#46;' + 'cz';
				var addy_text95045b812ae73db404
 fd180ee71813ec = 'm&#97;' + '&#64;' + 'kl&#97;st&#101;rbr&#111;&#117;m&#111
 ;v' + '&#46;' + 'cz';document.getElementById('cloak95045b812ae73db404fd180e
 e71813ec').innerHTML += '<a ' + path + '\'' + prefix + ':' + addy95045b812a
 e73db404fd180ee71813ec + '\'>'+addy_text95045b812ae73db404fd180ee71813ec+'<
 \/a>';
		</script></p>
DTSTAMP:20260421T201018Z
DTSTART;TZID=Europe/Prague;VALUE=DATE:20231103
DTEND;TZID=Europe/Prague;VALUE=DATE:20231106
SEQUENCE:0
TRANSP:OPAQUE
END:VEVENT
END:VCALENDAR