BEGIN:VCALENDAR
VERSION:2.0
PRODID:-//jEvents 2.0 for Joomla//EN
CALSCALE:GREGORIAN
METHOD:PUBLISH
BEGIN:VTIMEZONE
TZID:Europe/Prague
BEGIN:STANDARD
DTSTART:20231029T020000
RDATE:20240331T030000
TZOFFSETFROM:+0200
TZOFFSETTO:+0100
TZNAME:Europe/Prague CET
END:STANDARD
BEGIN:STANDARD
DTSTART:20241027T020000
RDATE:20250330T030000
TZOFFSETFROM:+0200
TZOFFSETTO:+0100
TZNAME:Europe/Prague CET
END:STANDARD
BEGIN:STANDARD
DTSTART:20251026T020000
RDATE:20260329T030000
TZOFFSETFROM:+0200
TZOFFSETTO:+0100
TZNAME:Europe/Prague CET
END:STANDARD
BEGIN:STANDARD
DTSTART:20261025T020000
RDATE:20270328T030000
TZOFFSETFROM:+0200
TZOFFSETTO:+0100
TZNAME:Europe/Prague CET
END:STANDARD
BEGIN:STANDARD
DTSTART:20271031T020000
RDATE:20280326T030000
TZOFFSETFROM:+0200
TZOFFSETTO:+0100
TZNAME:Europe/Prague CET
END:STANDARD
BEGIN:STANDARD
DTSTART:20281029T020000
RDATE:20290325T030000
TZOFFSETFROM:+0200
TZOFFSETTO:+0100
TZNAME:Europe/Prague CET
END:STANDARD
BEGIN:STANDARD
DTSTART:20291028T020000
RDATE:20300331T030000
TZOFFSETFROM:+0200
TZOFFSETTO:+0100
TZNAME:Europe/Prague CET
END:STANDARD
BEGIN:STANDARD
DTSTART:20301027T020000
RDATE:20310330T030000
TZOFFSETFROM:+0200
TZOFFSETTO:+0100
TZNAME:Europe/Prague CET
END:STANDARD
BEGIN:STANDARD
DTSTART:20311026T020000
RDATE:20320328T030000
TZOFFSETFROM:+0200
TZOFFSETTO:+0100
TZNAME:Europe/Prague CET
END:STANDARD
BEGIN:STANDARD
DTSTART:20321031T020000
RDATE:20330327T030000
TZOFFSETFROM:+0200
TZOFFSETTO:+0100
TZNAME:Europe/Prague CET
END:STANDARD
BEGIN:STANDARD
DTSTART:20331030T020000
RDATE:20340326T030000
TZOFFSETFROM:+0200
TZOFFSETTO:+0100
TZNAME:Europe/Prague CET
END:STANDARD
BEGIN:DAYLIGHT
DTSTART:20230809T000000
RDATE:20231029T020000
TZOFFSETFROM:+0100
TZOFFSETTO:+0200
TZNAME:Europe/Prague CEST
END:DAYLIGHT
BEGIN:DAYLIGHT
DTSTART:20240331T030000
RDATE:20241027T020000
TZOFFSETFROM:+0100
TZOFFSETTO:+0200
TZNAME:Europe/Prague CEST
END:DAYLIGHT
BEGIN:DAYLIGHT
DTSTART:20250330T030000
RDATE:20251026T020000
TZOFFSETFROM:+0100
TZOFFSETTO:+0200
TZNAME:Europe/Prague CEST
END:DAYLIGHT
BEGIN:DAYLIGHT
DTSTART:20260329T030000
RDATE:20261025T020000
TZOFFSETFROM:+0100
TZOFFSETTO:+0200
TZNAME:Europe/Prague CEST
END:DAYLIGHT
BEGIN:DAYLIGHT
DTSTART:20270328T030000
RDATE:20271031T020000
TZOFFSETFROM:+0100
TZOFFSETTO:+0200
TZNAME:Europe/Prague CEST
END:DAYLIGHT
BEGIN:DAYLIGHT
DTSTART:20280326T030000
RDATE:20281029T020000
TZOFFSETFROM:+0100
TZOFFSETTO:+0200
TZNAME:Europe/Prague CEST
END:DAYLIGHT
BEGIN:DAYLIGHT
DTSTART:20290325T030000
RDATE:20291028T020000
TZOFFSETFROM:+0100
TZOFFSETTO:+0200
TZNAME:Europe/Prague CEST
END:DAYLIGHT
BEGIN:DAYLIGHT
DTSTART:20300331T030000
RDATE:20301027T020000
TZOFFSETFROM:+0100
TZOFFSETTO:+0200
TZNAME:Europe/Prague CEST
END:DAYLIGHT
BEGIN:DAYLIGHT
DTSTART:20310330T030000
RDATE:20311026T020000
TZOFFSETFROM:+0100
TZOFFSETTO:+0200
TZNAME:Europe/Prague CEST
END:DAYLIGHT
BEGIN:DAYLIGHT
DTSTART:20320328T030000
RDATE:20321031T020000
TZOFFSETFROM:+0100
TZOFFSETTO:+0200
TZNAME:Europe/Prague CEST
END:DAYLIGHT
BEGIN:DAYLIGHT
DTSTART:20330327T030000
RDATE:20331030T020000
TZOFFSETFROM:+0100
TZOFFSETTO:+0200
TZNAME:Europe/Prague CEST
END:DAYLIGHT
END:VTIMEZONE
BEGIN:VEVENT
UID:6374047c955f9c4b1e5f01c7e138e962
CATEGORIES:Pozvánky
CREATED:20240527T111504
SUMMARY:Kurz varhaníků a zpěváků 
LOCATION:Klatovy
URL;VALUE=URI:https://urada.vbox.cz/kalendar/detailudalosti/1945/-/kurz-varhaniku-a-zpeva
 ku.html?tmpl=component
DESCRIPTION:Kurz varhaníků a zpěváků - Klatovy 9. 8. - 17. 8. 2024\nSraz bude v pátek 9
 . 8. 2024 v odpoledních hodinách na klatovské faře Církve českoslovesnké hu
 sitské (Dukelská 448), pak se účastníci přemístí na ubytování v internátu m
 ístní střední školy. Spirituálkou kurzu bude opět ses. farářka Jana Wienero
 vá z Broumova, záštitu převzal br. patriarcha ThDr. Tomáš Butta.\nVeřejný k
 oncert se uskuteční v pátek 16. 8. 2024 ve Sboru Dr. Karla Farského v Klato
 vech, začátek v 18 hod. V programu zazní varhanní skladby, sólové i sborové
  písně. Mnohé v programu připomene hudební odkaz skladatelů v rámci letošní
 ho Roku české hudby. Sbor účastníků kurzu řídí Zdeněk Kovalčík, Jakub Kubis
  a Kateřina Michlová. Vstupné dobrovolné.\nV sobotu 17. 8. na závěr kurzu p
 oděkujeme za dar hudby a zpěvu ve Sboru Dr. Karla Farského v Klatovech při 
 songové liturgii, kterou povede Zdeněk Kovalčík, kázáním poslouží plzeňský 
 biskup br. Lukáš Bujna. Začátek bohoslužby v 10 hod.\n
X-ALT-DESC;FMTTYPE=text/html:<p style="text-align: justify;">Kurz varhaníků a zpěváků -&nbsp;Klatovy 9. 
 8. - 17. 8. 2024</p><hr id="system-readmore" /><p style="text-align: justif
 y;">Sraz bude v pátek 9. 8. 2024 v odpoledních hodinách na klatovské faře C
 írkve českoslovesnké husitské (Dukelská 448), pak se účastníci přemístí na 
 ubytování v internátu místní střední školy. Spirituálkou kurzu bude opět se
 s. farářka Jana Wienerová z Broumova, záštitu převzal br. patriarcha ThDr. 
 Tomáš Butta.</p><p>Veřejný koncert se uskuteční v pátek 16. 8. 2024 ve Sbor
 u Dr. Karla Farského v Klatovech, začátek v 18 hod. V programu zazní varhan
 ní skladby, sólové i sborové písně. Mnohé v programu připomene hudební odka
 z skladatelů v rámci letošního Roku české hudby. Sbor účastníků kurzu řídí 
 Zdeněk Kovalčík, Jakub Kubis a Kateřina Michlová. Vstupné dobrovolné.</p><p
 >V sobotu 17. 8. na závěr kurzu poděkujeme za dar hudby a zpěvu ve Sboru Dr
 . Karla Farského v Klatovech při songové liturgii, kterou povede Zdeněk Kov
 alčík, kázáním poslouží plzeňský biskup br. Lukáš Bujna. Začátek bohoslužby
  v 10 hod.</p>
CONTACT:Tato e-mailová adresa je chráněna před spamboty. Pro její zobrazení musíte mít povolen Javascript.
				document.getElementById('cloake75e440e74c58fe0840c383a765587c9').innerHTML = '';
				var prefix = '&#109;a' + 'i&#108;' + '&#116;o';
				var path = 'hr' + 'ef' + '=';
				var addye75e440e74c58fe0840c383a765587c9 = 'n&#111;ccsh.k&#111;v' + '&#64;';
				addye75e440e74c58fe0840c383a765587c9 = addye75e440e74c58fe0840c383a765587c9 + 's&#101;zn&#97;m' + '&#46;' + 'cz';
				var addy_texte75e440e74c58fe0840c383a765587c9 = 'n&#111;ccsh.k&#111;v' + '&#64;' + 's&#101;zn&#97;m' + '&#46;' + 'cz';document.getElementById('cloake75e440e74c58fe0840c383a765587c9').innerHTML += '<a ' + path + '\'' + prefix + ':' + addye75e440e74c58fe0840c383a765587c9 + '\'>'+addy_texte75e440e74c58fe0840c383a765587c9+'';
		
DTSTAMP:20260419T143855Z
DTSTART;TZID=Europe/Prague;VALUE=DATE:20240809
DTEND;TZID=Europe/Prague;VALUE=DATE:20240818
SEQUENCE:0
TRANSP:OPAQUE
END:VEVENT
END:VCALENDAR