BEGIN:VCALENDAR
VERSION:2.0
PRODID:-//jEvents 2.0 for Joomla//EN
CALSCALE:GREGORIAN
METHOD:PUBLISH
BEGIN:VTIMEZONE
TZID:Europe/Prague
BEGIN:STANDARD
DTSTART:20230211T110000
RDATE:20230326T030000
TZOFFSETFROM:+0200
TZOFFSETTO:+0100
TZNAME:Europe/Prague CET
END:STANDARD
BEGIN:STANDARD
DTSTART:20231029T020000
RDATE:20240331T030000
TZOFFSETFROM:+0200
TZOFFSETTO:+0100
TZNAME:Europe/Prague CET
END:STANDARD
BEGIN:STANDARD
DTSTART:20241027T020000
RDATE:20250330T030000
TZOFFSETFROM:+0200
TZOFFSETTO:+0100
TZNAME:Europe/Prague CET
END:STANDARD
BEGIN:STANDARD
DTSTART:20251026T020000
RDATE:20260329T030000
TZOFFSETFROM:+0200
TZOFFSETTO:+0100
TZNAME:Europe/Prague CET
END:STANDARD
BEGIN:STANDARD
DTSTART:20261025T020000
RDATE:20270328T030000
TZOFFSETFROM:+0200
TZOFFSETTO:+0100
TZNAME:Europe/Prague CET
END:STANDARD
BEGIN:STANDARD
DTSTART:20271031T020000
RDATE:20280326T030000
TZOFFSETFROM:+0200
TZOFFSETTO:+0100
TZNAME:Europe/Prague CET
END:STANDARD
BEGIN:STANDARD
DTSTART:20281029T020000
RDATE:20290325T030000
TZOFFSETFROM:+0200
TZOFFSETTO:+0100
TZNAME:Europe/Prague CET
END:STANDARD
BEGIN:STANDARD
DTSTART:20291028T020000
RDATE:20300331T030000
TZOFFSETFROM:+0200
TZOFFSETTO:+0100
TZNAME:Europe/Prague CET
END:STANDARD
BEGIN:STANDARD
DTSTART:20301027T020000
RDATE:20310330T030000
TZOFFSETFROM:+0200
TZOFFSETTO:+0100
TZNAME:Europe/Prague CET
END:STANDARD
BEGIN:STANDARD
DTSTART:20311026T020000
RDATE:20320328T030000
TZOFFSETFROM:+0200
TZOFFSETTO:+0100
TZNAME:Europe/Prague CET
END:STANDARD
BEGIN:STANDARD
DTSTART:20321031T020000
RDATE:20330327T030000
TZOFFSETFROM:+0200
TZOFFSETTO:+0100
TZNAME:Europe/Prague CET
END:STANDARD
BEGIN:STANDARD
DTSTART:20331030T020000
RDATE:20340326T030000
TZOFFSETFROM:+0200
TZOFFSETTO:+0100
TZNAME:Europe/Prague CET
END:STANDARD
BEGIN:DAYLIGHT
DTSTART:20230326T030000
RDATE:20231029T020000
TZOFFSETFROM:+0100
TZOFFSETTO:+0200
TZNAME:Europe/Prague CEST
END:DAYLIGHT
BEGIN:DAYLIGHT
DTSTART:20240331T030000
RDATE:20241027T020000
TZOFFSETFROM:+0100
TZOFFSETTO:+0200
TZNAME:Europe/Prague CEST
END:DAYLIGHT
BEGIN:DAYLIGHT
DTSTART:20250330T030000
RDATE:20251026T020000
TZOFFSETFROM:+0100
TZOFFSETTO:+0200
TZNAME:Europe/Prague CEST
END:DAYLIGHT
BEGIN:DAYLIGHT
DTSTART:20260329T030000
RDATE:20261025T020000
TZOFFSETFROM:+0100
TZOFFSETTO:+0200
TZNAME:Europe/Prague CEST
END:DAYLIGHT
BEGIN:DAYLIGHT
DTSTART:20270328T030000
RDATE:20271031T020000
TZOFFSETFROM:+0100
TZOFFSETTO:+0200
TZNAME:Europe/Prague CEST
END:DAYLIGHT
BEGIN:DAYLIGHT
DTSTART:20280326T030000
RDATE:20281029T020000
TZOFFSETFROM:+0100
TZOFFSETTO:+0200
TZNAME:Europe/Prague CEST
END:DAYLIGHT
BEGIN:DAYLIGHT
DTSTART:20290325T030000
RDATE:20291028T020000
TZOFFSETFROM:+0100
TZOFFSETTO:+0200
TZNAME:Europe/Prague CEST
END:DAYLIGHT
BEGIN:DAYLIGHT
DTSTART:20300331T030000
RDATE:20301027T020000
TZOFFSETFROM:+0100
TZOFFSETTO:+0200
TZNAME:Europe/Prague CEST
END:DAYLIGHT
BEGIN:DAYLIGHT
DTSTART:20310330T030000
RDATE:20311026T020000
TZOFFSETFROM:+0100
TZOFFSETTO:+0200
TZNAME:Europe/Prague CEST
END:DAYLIGHT
BEGIN:DAYLIGHT
DTSTART:20320328T030000
RDATE:20321031T020000
TZOFFSETFROM:+0100
TZOFFSETTO:+0200
TZNAME:Europe/Prague CEST
END:DAYLIGHT
BEGIN:DAYLIGHT
DTSTART:20330327T030000
RDATE:20331030T020000
TZOFFSETFROM:+0100
TZOFFSETTO:+0200
TZNAME:Europe/Prague CEST
END:DAYLIGHT
END:VTIMEZONE
BEGIN:VEVENT
UID:926e4644d6638ba39f1cfc0b1e1c7400
CATEGORIES:Pozvánky
CREATED:20240206T133727
SUMMARY:Postní miniduchovní obnova v Hradci Králové
URL;VALUE=URI:https://urada.vbox.cz/kalendar/detailudalosti/1811/-/postni-miniduchovni-ob
 nova-v-hradci-kralove.html?tmpl=component
DESCRIPTION:<p>Zveme vás na Postní MINIDUCHOVNÍ OBNOVU na téma hojnost Božího požehnání
 , kterou doprovází královehradecký biskup Pavel Pechanec.</p><p>Koná se v n
 eděli 25. února 2024</p><p>Program:</p><p>11.00 Ztišení ve Sboru kněze Ambr
 ože<br />11.15 Proč je zapotřebí "duchovní obnovy"? Uvedení do tématu půst 
 a hojnost Božího požehnání, meditace nad texty, ztišení.<br />13.00 Oběd<br
  />14.00 Meditace nad texty hojnosti Božího požehnání.<br />16.30 Závěrečné
  sdílení při šálku čaje, zakončení.</p><p>Přihlašujte se na <span id="cloak
 6c5c6de55bea82f70a730de5b12de2d2">Tato e-mailová adresa je chráněna před sp
 amboty. Pro její zobrazení musíte mít povolen Javascript.</span><script typ
 e='text/javascript'>
				document.getElementById('cloak6c5c6de55bea82f70a73
 0de5b12de2d2').innerHTML = '';
				var prefix = '&#109;a' + 'i&#108;' + '&#
 116;o';
				var path = 'hr' + 'ef' + '=';
				var addy6c5c6de55bea82f70a730
 de5b12de2d2 = 'd&#105;&#101;c&#101;z&#101;.hr&#97;d&#101;c' + '&#64;';
				
 addy6c5c6de55bea82f70a730de5b12de2d2 = addy6c5c6de55bea82f70a730de5b12de2d2
  + 'ccsh' + '&#46;' + 'cz';
				var addy_text6c5c6de55bea82f70a730de5b12de2
 d2 = 'd&#105;&#101;c&#101;z&#101;.hr&#97;d&#101;c' + '&#64;' + 'ccsh' + '&#
 46;' + 'cz';document.getElementById('cloak6c5c6de55bea82f70a730de5b12de2d2'
 ).innerHTML += '<a ' + path + '\'' + prefix + ':' + addy6c5c6de55bea82f70a7
 30de5b12de2d2 + '\'>'+addy_text6c5c6de55bea82f70a730de5b12de2d2+'<\/a>';
		
 </script> do 22. 2. 2024</p><p>Pro zájemce - den začínáme bohoslužbou ve Sb
 oru kněze Ambrože.</p><p>Od 9.30 hodin. Příspěvek na oběd 100 Kč.</p><p>Poř
 ádá Královéhradecká diecéze Církve československé husitské, Ambrožova 728/3
 , Hradec Králové.</p>
DTSTAMP:20260419T162506Z
DTSTART;TZID=Europe/Prague:20240212T110000
SEQUENCE:0
TRANSP:OPAQUE
END:VEVENT
END:VCALENDAR